BEGIN:VCALENDAR
VERSION:2.0
PRODID:-//Plone.org//NONSGML plone.app.event//EN
X-WR-TIMEZONE:Europe/Rome
BEGIN:VEVENT
SUMMARY:Aspetti comportamentali del Polpo come indicatori del benessere in
  ambiente controllato
DTSTART;TZID=Europe/Rome;VALUE=DATE-TIME:20250408T110000
DTEND;TZID=Europe/Rome;VALUE=DATE-TIME:20250408T130000
DTSTAMP;VALUE=DATE-TIME:20260419T170031Z
UID:5833abe892534643b530d728e211d961@scienzemedicheveterinarie.unibo.it
CREATED;VALUE=DATE-TIME:20250402T104123Z
DESCRIPTION:Seminario tenuto dal Dott. Antonio Casalini nell’ambito del 
 Corso di “Adattamento e benessere dei Teleostei allevati” della Prof.s
 sa Albamaria Parmeggiani
LAST-MODIFIED;VALUE=DATE-TIME:20250402T104142Z
URL:https://scienzemedicheveterinarie.unibo.it/it/eventi/aspetti-comportam
 entali-del-polpo-come-indicatori-del-benessere-in-ambiente-controllato
END:VEVENT
BEGIN:VTIMEZONE
TZID:Europe/Rome
X-LIC-LOCATION:Europe/Rome
BEGIN:DAYLIGHT
DTSTART;VALUE=DATE-TIME:20250330T030000
TZNAME:CEST
TZOFFSETFROM:+0100
TZOFFSETTO:+0200
END:DAYLIGHT
END:VTIMEZONE
END:VCALENDAR
