BEGIN:VCALENDAR
VERSION:2.0
PRODID:-//Plone.org//NONSGML plone.app.event//EN
X-WR-TIMEZONE:Europe/Rome
BEGIN:VEVENT
SUMMARY:Eventi di perinatologia equina
DTSTART;VALUE=DATE:20190118
DTEND;VALUE=DATE:20190701
DTSTAMP;VALUE=DATE-TIME:20260426T050303Z
UID:d5c20ec1f37f4368bb6b3b8628b9b4af@scienzemedicheveterinarie.unibo.it
CREATED;VALUE=DATE-TIME:20181122T073547Z
LAST-MODIFIED;VALUE=DATE-TIME:20181122T074059Z
URL:https://scienzemedicheveterinarie.unibo.it/it/eventi/eventi-di-perinat
 ologia-equina
END:VEVENT
END:VCALENDAR
