BEGIN:VCALENDAR
VERSION:2.0
PRODID:-//Plone.org//NONSGML plone.app.event//EN
X-WR-TIMEZONE:Europe/Rome
BEGIN:VEVENT
SUMMARY:Flow cytometric analysis of sperm cells
DTSTART;TZID=Europe/Rome;VALUE=DATE-TIME:20180519T090000
DTEND;TZID=Europe/Rome;VALUE=DATE-TIME:20180519T173000
DTSTAMP;VALUE=DATE-TIME:20260426T032023Z
UID:e7be7450c31d4a619eae044bfd0283dd@scienzemedicheveterinarie.unibo.it
CREATED;VALUE=DATE-TIME:20180423T072307Z
LAST-MODIFIED;VALUE=DATE-TIME:20180427T042141Z
URL:https://scienzemedicheveterinarie.unibo.it/it/eventi/flow-cytometric-a
 nalysis-of-sperm-cells
END:VEVENT
BEGIN:VTIMEZONE
TZID:Europe/Rome
X-LIC-LOCATION:Europe/Rome
BEGIN:DAYLIGHT
DTSTART;VALUE=DATE-TIME:20180325T030000
TZNAME:CEST
TZOFFSETFROM:+0100
TZOFFSETTO:+0200
END:DAYLIGHT
END:VTIMEZONE
END:VCALENDAR
