BEGIN:VCALENDAR
VERSION:2.0
PRODID:-//Plone.org//NONSGML plone.app.event//EN
X-WR-TIMEZONE:Europe/Rome
BEGIN:VEVENT
SUMMARY:Incontra i nostri corsi durante le Giornate di Orientamento 2025
DTSTART;VALUE=DATE:20250225
DTEND;VALUE=DATE:20250227
DTSTAMP;VALUE=DATE-TIME:20260422T221619Z
UID:8a8d46e5c7014ea3941084a171e43d40@scienzemedicheveterinarie.unibo.it
CREATED;VALUE=DATE-TIME:20250129T112749Z
DESCRIPTION:Evento annuale di due giornate per scoprire tutti i corsi di l
 aurea e laurea magistrale del dipartimento
LAST-MODIFIED;VALUE=DATE-TIME:20250219T082237Z
URL:https://scienzemedicheveterinarie.unibo.it/it/eventi/incontra-i-nostri
 -corsi-durante-le-giornate-di-orientamento-2025
END:VEVENT
END:VCALENDAR
