BEGIN:VCALENDAR
VERSION:2.0
PRODID:-//Plone.org//NONSGML plone.app.event//EN
X-WR-TIMEZONE:Europe/Rome
BEGIN:VEVENT
SUMMARY:Insegnare alla I-generation. Esperienza con gli studenti del DIMEV
 ET
DTSTART;TZID=Europe/Rome;VALUE=DATE-TIME:20181026T141500
DTEND;TZID=Europe/Rome;VALUE=DATE-TIME:20181026T150000
DTSTAMP;VALUE=DATE-TIME:20260419T170224Z
UID:434aa2022b3e40f5b50f24e61430a387@scienzemedicheveterinarie.unibo.it
CREATED;VALUE=DATE-TIME:20181023T115319Z
LAST-MODIFIED;VALUE=DATE-TIME:20181026T045212Z
URL:https://scienzemedicheveterinarie.unibo.it/it/eventi/insegnare-alla-i-
 generation.-esperienza-con-gli-studenti-del-dimevet
END:VEVENT
BEGIN:VTIMEZONE
TZID:Europe/Rome
X-LIC-LOCATION:Europe/Rome
BEGIN:DAYLIGHT
DTSTART;VALUE=DATE-TIME:20180325T030000
TZNAME:CEST
TZOFFSETFROM:+0100
TZOFFSETTO:+0200
END:DAYLIGHT
END:VTIMEZONE
END:VCALENDAR
