BEGIN:VCALENDAR
VERSION:2.0
PRODID:-//Plone.org//NONSGML plone.app.event//EN
X-WR-TIMEZONE:Europe/Rome
BEGIN:VEVENT
SUMMARY:TOP TEN 2025 nelle scienze mediche
DTSTART;TZID=Europe/Rome;VALUE=DATE-TIME:20251120T140000
DTEND;TZID=Europe/Rome;VALUE=DATE-TIME:20251120T170000
DTSTAMP;VALUE=DATE-TIME:20260425T205307Z
UID:20c3ccfa73b143828dd0d67c7cc65cf1@scienzemedicheveterinarie.unibo.it
CREATED;VALUE=DATE-TIME:20251118T094507Z
DESCRIPTION:Presso l’Accademia delle Scienze si terrà il TOP TEN con re
 latori della Medicina e della Medicina Veterinaria
LAST-MODIFIED;VALUE=DATE-TIME:20251118T094833Z
URL:https://scienzemedicheveterinarie.unibo.it/it/eventi/top-ten-2025-nell
 e-scienze-mediche
END:VEVENT
BEGIN:VTIMEZONE
TZID:Europe/Rome
X-LIC-LOCATION:Europe/Rome
BEGIN:STANDARD
DTSTART;VALUE=DATE-TIME:20251026T020000
TZNAME:CET
TZOFFSETFROM:+0200
TZOFFSETTO:+0100
END:STANDARD
END:VTIMEZONE
END:VCALENDAR
