BEGIN:VCALENDAR
VERSION:2.0
PRODID:-//Plone.org//NONSGML plone.app.event//EN
X-WR-TIMEZONE:Europe/Rome
BEGIN:VEVENT
SUMMARY:Una Europa - Iniziative per PhD
DTSTART;VALUE=DATE:20210517
DTEND;VALUE=DATE:20210529
DTSTAMP;VALUE=DATE-TIME:20260421T151212Z
UID:0f53aca8b7b24292ae0ffcd5f09a86ab@scienzemedicheveterinarie.unibo.it
CREATED;VALUE=DATE-TIME:20210504T070629Z
DESCRIPTION:Alcune iniziative organizzate  per i dottorandi nell'ambito de
 l progetto Una Europa
LAST-MODIFIED;VALUE=DATE-TIME:20210511T091315Z
URL:https://scienzemedicheveterinarie.unibo.it/it/eventi/una-europa-inizia
 tive-per-phd
END:VEVENT
END:VCALENDAR
