BEGIN:VCALENDAR
VERSION:2.0
PRODID:-//Plone.org//NONSGML plone.app.event//EN
X-WR-TIMEZONE:Europe/Rome
BEGIN:VEVENT
SUMMARY:Workshop "Microscopia Avanzata e Scienze Omiche per l'Anatomia Mol
 ecolare"
DTSTART;TZID=Europe/Rome;VALUE=DATE-TIME:20250523T094500
DTEND;TZID=Europe/Rome;VALUE=DATE-TIME:20250523T173000
DTSTAMP;VALUE=DATE-TIME:20260421T140308Z
UID:2bedd1104aa241a8a536ea3071aa5438@scienzemedicheveterinarie.unibo.it
CREATED;VALUE=DATE-TIME:20250422T141253Z
LAST-MODIFIED;VALUE=DATE-TIME:20250422T151408Z
URL:https://scienzemedicheveterinarie.unibo.it/it/eventi/workshop-microsco
 pia-avanzata-e-scienze-omiche-per-lanatomia-molecolare
END:VEVENT
BEGIN:VTIMEZONE
TZID:Europe/Rome
X-LIC-LOCATION:Europe/Rome
BEGIN:DAYLIGHT
DTSTART;VALUE=DATE-TIME:20250330T030000
TZNAME:CEST
TZOFFSETFROM:+0100
TZOFFSETTO:+0200
END:DAYLIGHT
END:VTIMEZONE
END:VCALENDAR
