BEGIN:VCALENDAR
VERSION:2.0
PRODID:-//Plone.org//NONSGML plone.app.event//EN
X-WR-TIMEZONE:Europe/Rome
BEGIN:VEVENT
SUMMARY:XXV Congresso Annuale AISAL
DTSTART;VALUE=DATE:20181004
DTEND;VALUE=DATE:20181006
DTSTAMP;VALUE=DATE-TIME:20260419T182429Z
UID:64ee81ce516747b9be84811db5c2d893@scienzemedicheveterinarie.unibo.it
CREATED;VALUE=DATE-TIME:20180809T080436Z
LAST-MODIFIED;VALUE=DATE-TIME:20180828T092706Z
URL:https://scienzemedicheveterinarie.unibo.it/it/eventi/xxv-congresso-ann
 uale-aisal
END:VEVENT
END:VCALENDAR
